BEGIN:VCALENDAR
VERSION:2.0
PRODID:-//eventon.com NONSGML v1.0//EN
CALSCALE:GREGORIAN
METHOD:PUBLISH
BEGIN:VEVENT
UID:69e74c63f0d83
DTSTAMP:20260421T100731Z
DTSTART:20230323T183000Z
DTEND:20230323T210000Z
LOCATION:ABF Gävle Brunnsgatan 56
SUMMARY:ÅRSMÖTE GCF GÄVLEBORG
DESCRIPTION:Föreningen bjuder på Kaffe/Te och smörgåstårta. Anmälan s
 enast den 20 mars till maja.hemsrom@gmail.com eller 070 325 50 06\nhttps://
 gyncancerforbundet.se/events/arsmote-gcf-gavleborg/
URL:https://gyncancerforbundet.se/events/arsmote-gcf-gavleborg/
END:VEVENT
END:VCALENDAR