BEGIN:VCALENDAR
VERSION:2.0
PRODID:-//eventon.com NONSGML v1.0//EN
CALSCALE:GREGORIAN
METHOD:PUBLISH
BEGIN:VEVENT
UID:69e74c79773d3
DTSTAMP:20260421T100753Z
DTSTART:20250406T090000Z
DTEND:20250406T110000Z
LOCATION:Freys hotell\,  Stockholm
SUMMARY:Riksstämman
DESCRIPTION:KALLELSE GYNCANCERFÖRBUNDETS RIKSSTÄMMA 2025 Datum: söndag 6
  april 2025 Tid: kl 9.00 – Plats: Freys Hotel\,  Stockholm Anmälan senas
 t 2025-03-01 till kerstinsh1@gmail.com Sedvanliga stämmoförhandlingar kom
 mer att avhandlas. Motioner ska vara styrelsen tillhanda senast 2025-03-01 
 skickas till belindaharaldsson@hotmail.com Förslag till valberedningen ska
  vara valberedningen tillhanda senast 2025-03-01 skickas till kerstinsh1@gm
 ail.com Föreslagna[..]\nhttps://gyncancerforbundet.se/events/riksstamman/
URL:https://gyncancerforbundet.se/events/riksstamman/
END:VEVENT
END:VCALENDAR