BEGIN:VCALENDAR
VERSION:2.0
PRODID:-//eventon.com NONSGML v1.0//EN
CALSCALE:GREGORIAN
METHOD:PUBLISH
BEGIN:VEVENT
UID:69e74db7c6b45
DTSTAMP:20260421T101311Z
DTSTART:20230322T163000Z
DTEND:20230322T000000Z
LOCATION:
SUMMARY:ÅRSMÖTE GCF JÖNKÖPING
DESCRIPTION:Välkomna! Föreningen bjuder på fika Anmälan senast 17 Mats 
 på Facebook eller evamolnar@live.se Eva Orförande&nbsp;\nhttps://gyncance
 rforbundet.se/events/arsmote-gcf-jonkoping/
URL:https://gyncancerforbundet.se/events/arsmote-gcf-jonkoping/
END:VEVENT
END:VCALENDAR