BEGIN:VCALENDAR
VERSION:2.0
PRODID:-//eventon.com NONSGML v1.0//EN
CALSCALE:GREGORIAN
METHOD:PUBLISH
BEGIN:VEVENT
UID:69e74dd54a40a
DTSTAMP:20260421T101341Z
DTSTART:20250323T140000Z
DTEND:20250323T000000Z
LOCATION:
SUMMARY:Medlemsträff med fika GCF Örebro
DESCRIPTION:Välkomna\nhttps://gyncancerforbundet.se/events/medlemstraff-me
 d-lunch-med-gcf-orebro/
URL:https://gyncancerforbundet.se/events/medlemstraff-med-lunch-med-gcf-orebro/
END:VEVENT
END:VCALENDAR