BEGIN:VCALENDAR
VERSION:2.0
PRODID:-//eventon.com NONSGML v1.0//EN
CALSCALE:GREGORIAN
METHOD:PUBLISH
BEGIN:VEVENT
UID:69e5f8e37ec4d
DTSTAMP:20260420T095859Z
DTSTART:20250405T100000Z
DTEND:20250405T170000Z
LOCATION:Freys hotell\,  Stockholm
SUMMARY:GyncancerfÃ¶rbundets kunskapsdag
DESCRIPTION:Vi startar med fika 9.30.&nbsp; FÃ¶rst information frÃ¥n fÃ¶rbu
 ndets styrelse och under dagen fÃ¥r vi lyssna till Felicia Hume\,  Charlott
 e Signahl och Lotta Grey. Dagen avslutas cirka 17.00 AnmÃ¤lan till kunskaps
 dagen senast 1/3 till kerstin.sh1@gmail.com Kommer du att delta pÃ¥ RiksstÃ
 ¤mman mÃ¥ste vi veta om du har Ã¶nskemÃ¥l om Logi.&nbsp;[..]\nhttps://gynca
 ncerforbundet.se/events/gyncancerforbundets-kunskapsdag-och-riksstamma/
URL:https://gyncancerforbundet.se/events/gyncancerforbundets-kunskapsdag-och-riksstamma/
END:VEVENT
END:VCALENDAR