BEGIN:VCALENDAR
VERSION:2.0
PRODID:-//eventon.com NONSGML v1.0//EN
CALSCALE:GREGORIAN
METHOD:PUBLISH
BEGIN:VEVENT
UID:69e5f95c99cb8
DTSTAMP:20260420T100100Z
DTSTART:20250320T180000Z
DTEND:20250320T200000Z
LOCATION:Brasseri 21 Sjukhusvägen 12 A\,  Uppsala
SUMMARY:Fikaträff med GCF Stockholm- Uppsala i Uppsala
DESCRIPTION:Hjärtligt välkomna till fikaträff\,  bara att komma vi bjude
 r på fika // Kerstin\nhttps://gyncancerforbundet.se/events/fikatraff-med-g
 cf-stockholm-uppsala-i-uppsala-5/
URL:https://gyncancerforbundet.se/events/fikatraff-med-gcf-stockholm-uppsala-i-uppsala-5/
END:VEVENT
END:VCALENDAR