BEGIN:VCALENDAR
VERSION:2.0
PRODID:-//eventon.com NONSGML v1.0//EN
CALSCALE:GREGORIAN
METHOD:PUBLISH
BEGIN:VEVENT
UID:69e74c39f3699
DTSTAMP:20260421T100649Z
DTSTART:20250407T170000Z
DTEND:20250407T191900Z
LOCATION:Thelins konditori Sankt Eriksgatan 43\,  Stockholm
SUMMARY:Fikaträff med GCF Stockholm- Uppsala
DESCRIPTION:Välkommen på Fikaträff\,  föreningen bjuder alla som betala
 t medlemsavgiften för 2025. Ingen anmälan bara att droppa in\nhttps://gyn
 cancerforbundet.se/events/fikatraff-med-gcf-stockholm-uppsala-9/
URL:https://gyncancerforbundet.se/events/fikatraff-med-gcf-stockholm-uppsala-9/
END:VEVENT
END:VCALENDAR