BEGIN:VCALENDAR
VERSION:2.0
PRODID:-//eventon.com NONSGML v1.0//EN
CALSCALE:GREGORIAN
METHOD:PUBLISH
BEGIN:VEVENT
UID:69e5e2dc50c35
DTSTAMP:20260420T082500Z
DTSTART:20250317T163000Z
DTEND:20250317T190000Z
LOCATION:Kraftens hus Stockholm Hantverkargatan 45G\,  Stockholm
SUMMARY:Kransbindarkväll med GCF Stockholm- Uppsala
DESCRIPTION:Välkomna till en kväll fylld av kreativitet. Under ledning av
  Karin på Mangolia blomsterbutik ska vi lära oss att binda kransar. Pris:
  150:- betalas med swish på plats Anmälan till: gcfstockholm-uppsala@gync
 ancerforbundet.se&nbsp; Vid frågor ring Elisabeth: 070-6909094 // Välkomn
 a&nbsp;\nhttps://gyncancerforbundet.se/events/kransbindarkvall-med-gcf-stoc
 kholm-uppsala/
URL:https://gyncancerforbundet.se/events/kransbindarkvall-med-gcf-stockholm-uppsala/
END:VEVENT
END:VCALENDAR