BEGIN:VCALENDAR
VERSION:2.0
PRODID:-//eventon.com NONSGML v1.0//EN
CALSCALE:GREGORIAN
METHOD:PUBLISH
BEGIN:VEVENT
UID:69e7371142371
DTSTAMP:20260421T083633Z
DTSTART:20241205T180000Z
DTEND:20241205T235900Z
LOCATION:Solsta Towers i Asarum
SUMMARY:Julbord med GCF Blekinge-Småland
DESCRIPTION:GynCancerFöreningen Blekinge-Småland bjuder in till Julbord! 
 Torsdag 5:e december kl. 18.00 bjuder GCF Blekinge-Småland in till Julbord
  på Solsta Towers i Asarum. Det finns endast ett begränsat antal platser 
 så anmäl ert intresse snarast till gcfblekinge-smaland@gyncancerforbunde
 t.se eller ring/SMS till Pamela 070-5753959. Sista anmälningsdag 28:e nove
 mber. Om intresset är mycket stort så[..]\nhttps://gyncancerforbundet.se/
 events/julbord-med-gcf-blekinge-smaland/
URL:https://gyncancerforbundet.se/events/julbord-med-gcf-blekinge-smaland/
END:VEVENT
END:VCALENDAR