BEGIN:VCALENDAR
VERSION:2.0
PRODID:-//eventon.com NONSGML v1.0//EN
CALSCALE:GREGORIAN
METHOD:PUBLISH
BEGIN:VEVENT
UID:69e5e2d4d51eb
DTSTAMP:20260420T082452Z
DTSTART:20241208T130000Z
DTEND:20241208T160000Z
LOCATION:Vallby Friluftsmuseum Västerås
SUMMARY:JULBORD GCF VÄSTMANLAND
DESCRIPTION:JULBORD Julbord på Gaggerska gården i Vallby Västerås 8 dec
 ember &nbsp; Plats: Gaggerska gården\,  Vallby friluftsmuseum\,  Västerå
 s&nbsp;&nbsp;&nbsp;&nbsp;&nbsp;&nbsp;&nbsp;&nbsp;&nbsp;&nbsp;&nbsp;&nbsp;&n
 bsp;&nbsp; Datum: Söndag 8 december 2024 Tid: Kl. 13.00 Kostnad: Medlem be
 talar 250 kr\,  medföljande icke medlem betalar fullt pris 700 kr. Drycker
  betalas av var och en på plats. Avgiften sätts in på[..]\nhttps://gynca
 ncerforbundet.se/events/julbord-gcf-vastmanland/
URL:https://gyncancerforbundet.se/events/julbord-gcf-vastmanland/
END:VEVENT
END:VCALENDAR