BEGIN:VCALENDAR
VERSION:2.0
PRODID:-//eventon.com NONSGML v1.0//EN
CALSCALE:GREGORIAN
METHOD:PUBLISH
BEGIN:VEVENT
UID:69e5e223578d0
DTSTAMP:20260420T082155Z
DTSTART:20241105T100000Z
DTEND:20241105T000000Z
LOCATION:Kickis cafe Ã–stra Storgatan 34\,  OlofstrÃ¶m
SUMMARY:FikatrÃ¤ff med GCF Blekinge-SmÃ¥land
DESCRIPTION:Inbjudan till FikatrÃ¤ff! MÃ¥ndag 5/11 kl. 10.00 trÃ¤ffas vi pÃ
 ¥ Kickis CafÃ© i OlofstrÃ¶m och intar en gemensam frukost (eller fika om ma
 n nu redan har Ã¤tit frukost). Ta gÃ¤rna med er anhÃ¶riga eller vÃ¤nner. Vi
  pratar\,  skrattar och har det trevligt under tiden som vi njuter av det n
 ybakade[..]\nhttps://gyncancerforbundet.se/events/fikatraff-med-gcf-bleking
 e-smaland-3/
URL:https://gyncancerforbundet.se/events/fikatraff-med-gcf-blekinge-smaland-3/
END:VEVENT
END:VCALENDAR