BEGIN:VCALENDAR
VERSION:2.0
PRODID:-//eventon.com NONSGML v1.0//EN
CALSCALE:GREGORIAN
METHOD:PUBLISH
BEGIN:VEVENT
UID:69e74d3be0bc6
DTSTAMP:20260421T101107Z
DTSTART:20241128T183000Z
DTEND:20241128T203000Z
LOCATION:ABF Pilgatan 2\,  Västerås
SUMMARY:Lust och välbefinnande efter sin cancerbehandling med GCF Västmanland (Livskraft)
DESCRIPTION:Karolina Ersson &#8211; Lust och välbefinnande efter en cancer
 behandling Karolina Ersson\,  Beteendevetare\,  Sexual rådgivare och 4D-Wh
 eel terapeut från Aleah Care kommer att ge en inspirerande föreläsning o
 m lust och sexuellt välbefinnande efter en cancerbehandling. Hon kommer be
 röra ämnen som hur man hittar tillbaka till intimitet\,  sin kropp och sj
 älvkärlek\,  hon[..]\nhttps://gyncancerforbundet.se/events/lust-och-valbe
 finnande-efter-sin-cancerbehandling-med-gcf-vastmanland-livskraft/
URL:https://gyncancerforbundet.se/events/lust-och-valbefinnande-efter-sin-cancerbehandling-med-gcf-vastmanland-livskraft/
END:VEVENT
END:VCALENDAR