BEGIN:VCALENDAR
VERSION:2.0
PRODID:-//eventon.com NONSGML v1.0//EN
CALSCALE:GREGORIAN
METHOD:PUBLISH
BEGIN:VEVENT
UID:69e74c9edeb5c
DTSTAMP:20260421T100830Z
DTSTART:20241104T170000Z
DTEND:20241104T190000Z
LOCATION:Espresso house Karlbergsvägen 10\,  Stockholm
SUMMARY:Fikaträff med GCF Stockholm- Uppsala
DESCRIPTION:Föreningen bjuder på fika\,  bara att komma// Välkomna Styre
 lsen\nhttps://gyncancerforbundet.se/events/fikatraff-med-gcf-stockholm-upps
 ala-5/
URL:https://gyncancerforbundet.se/events/fikatraff-med-gcf-stockholm-uppsala-5/
END:VEVENT
END:VCALENDAR