BEGIN:VCALENDAR
VERSION:2.0
PRODID:-//eventon.com NONSGML v1.0//EN
CALSCALE:GREGORIAN
METHOD:PUBLISH
BEGIN:VEVENT
UID:69e63bc93bf38
DTSTAMP:20260420T144425Z
DTSTART:20240911T163000Z
DTEND:20240911T000000Z
LOCATION:Ryhov Lärcenter Jönköping
SUMMARY:Taktil massage med GCF Jönköping
DESCRIPTION:Vi bjuder in till en prova-på-session av taktilmassage\,  i sa
 marbete med Gyncancerförbundet. Cristin kommer hålla en kort föreläsnin
 g om taktil massage\,  och därefter får alla som vill chansen att prova p
 å. Under tiden som vissa får sin massage kommer Åsa att leda ett roligt 
 spel för övriga deltagare. // Välkomna[..]\nhttps://gyncancerforbundet.s
 e/events/taktil-massage-med-gcf-jonkoping/
URL:https://gyncancerforbundet.se/events/taktil-massage-med-gcf-jonkoping/
END:VEVENT
END:VCALENDAR