BEGIN:VCALENDAR
VERSION:2.0
PRODID:-//eventon.com NONSGML v1.0//EN
CALSCALE:GREGORIAN
METHOD:PUBLISH
BEGIN:VEVENT
UID:69e5e21f7a1a9
DTSTAMP:20260420T082151Z
DTSTART:20240912T170000Z
DTEND:20240912T210000Z
LOCATION:Elit Grand Hotel Gävle Kyrkogatan 28\,  Gävle
SUMMARY:Spakväll med GCF Gävleborg
DESCRIPTION:En kväll att skämma bort både kropp och själ. Vi början me
 d 30 min behandling\,  och och charkbricka med dryck (önskas alkohol betal
 ar man själv). Det går att välja på massage\,  ansiktsbehandling\,  huv
 ud hand och fot massage med fotpeeling Allt detta för 400:-/p Anmälan sen
 ast 24/8 till maja.hemstrom@gmail.com eller 070-3255006[..]\nhttps://gyncan
 cerforbundet.se/events/spakvall-med-gcf-gavleborg-3/
URL:https://gyncancerforbundet.se/events/spakvall-med-gcf-gavleborg-3/
END:VEVENT
END:VCALENDAR