BEGIN:VCALENDAR
VERSION:2.0
PRODID:-//eventon.com NONSGML v1.0//EN
CALSCALE:GREGORIAN
METHOD:PUBLISH
BEGIN:VEVENT
UID:69e736df3f4ce
DTSTAMP:20260421T083543Z
DTSTART:20240617T170000Z
DTEND:20240617T000000Z
LOCATION:Croissant Cafe Drottninggatan 15\,  Karlstad
SUMMARY:Fikaträff GCF Värmland
DESCRIPTION:Äntligen nu startar vi igång Gyncancerföreningen i Värmland
  igen med att träffas över en fika på Le Croissant Café. Info kontakta:
  Belinda 072-2085630 // Varmt välkomna\nhttps://gyncancerforbundet.se/even
 ts/fikatraff-gcf-varmland/
URL:https://gyncancerforbundet.se/events/fikatraff-gcf-varmland/
END:VEVENT
END:VCALENDAR