BEGIN:VCALENDAR
VERSION:2.0
PRODID:-//eventon.com NONSGML v1.0//EN
CALSCALE:GREGORIAN
METHOD:PUBLISH
BEGIN:VEVENT
UID:69e736543028d
DTSTAMP:20260421T083324Z
DTSTART:20241102T180000Z
DTEND:20241102T000000Z
LOCATION:Storsjöteatern Stortorget 7\,  Östersund
SUMMARY:Tina the show med LaGaylia \,  Östersund
DESCRIPTION:Gyncancerförbundet bjuder sina medlemmar med 500:- på din bil
 jett. Du får själv boka och betala biljetten och skicka sedan kvitto till
  förbundets kassör: cristina.gunnarsson@gmail.com // Välkommen&nbsp; &nb
 sp; LaGaylia förlänger ”Tina the Show” på turné Den 3:e april blir 
 det äntligen premiär för LaGaylia Frazier ”Tina – the Show”. Intre
 sset för[..]\nhttps://gyncancerforbundet.se/events/tina-the-show-med-lagay
 lia-ostersund/
URL:https://gyncancerforbundet.se/events/tina-the-show-med-lagaylia-ostersund/
END:VEVENT
END:VCALENDAR