BEGIN:VCALENDAR
VERSION:2.0
PRODID:-//eventon.com NONSGML v1.0//EN
CALSCALE:GREGORIAN
METHOD:PUBLISH
BEGIN:VEVENT
UID:69e5fd4460e64
DTSTAMP:20260420T101740Z
DTSTART:20241101T193000Z
DTEND:20241101T000000Z
LOCATION:Tonhallen i Sundsvall Universitetsallén 24\,  Sundsvall
SUMMARY:Tina the show med LaGaylia \,  Sundsvall
DESCRIPTION:Gyncancerförbundet bjuder sina medlemmar med 500:- på din bil
 jett. Du får själv boka och betala biljetten och skicka sedan kvitto till
  förbundets kassör: cristina.gunnarsson@gmail.com // Välkommen&nbsp; &nb
 sp; LaGaylia förlänger ”Tina the Show” på turné Den 3:e april blir 
 det äntligen premiär för LaGaylia Frazier ”Tina – the Show”. Intre
 sset för[..]\nhttps://gyncancerforbundet.se/events/tina-the-show-med-lagay
 lia-sundsvall/
URL:https://gyncancerforbundet.se/events/tina-the-show-med-lagaylia-sundsvall/
END:VEVENT
END:VCALENDAR