BEGIN:VCALENDAR
VERSION:2.0
PRODID:-//eventon.com NONSGML v1.0//EN
CALSCALE:GREGORIAN
METHOD:PUBLISH
BEGIN:VEVENT
UID:69e5f5d4912eb
DTSTAMP:20260420T094556Z
DTSTART:20241109T193000Z
DTEND:20241109T000000Z
LOCATION:Vida Arena Storgatan 86\,  Växjö
SUMMARY:Let the Music Speak\,  Växjö
DESCRIPTION:Aktivitet Gyncancerförbundet bjuder sina medlemmar på 500:- a
 v biljettpriset. Du får själv boka och betala din biljett på länken ned
 an. Skicka sedan kvittot till cristina.gunnarsson@gmail.com (glöm inte vil
 ket konto du önskar få in dina pengar) Let The Music Speak hedrar Björn 
 &amp; Bennys musikaliska arv genom en storslagen arenaturné med[..]\nhttps
 ://gyncancerforbundet.se/events/let-the-music-speak-vaxjo/
URL:https://gyncancerforbundet.se/events/let-the-music-speak-vaxjo/
END:VEVENT
END:VCALENDAR