BEGIN:VCALENDAR
VERSION:2.0
PRODID:-//eventon.com NONSGML v1.0//EN
CALSCALE:GREGORIAN
METHOD:PUBLISH
BEGIN:VEVENT
UID:69e73b0b9c49d
DTSTAMP:20260421T085331Z
DTSTART:20241116T193000Z
DTEND:20241116T000000Z
LOCATION:Hägglunds Arena Viktoriaesplanaden 1\,  Önsköldsvik
SUMMARY:Let the Music Speak\,  Önsköldsvik
DESCRIPTION:Aktivitet Gyncancerförbundet bjuder sina medlemmar på 500:- a
 v biljettpriset. Du får själv boka och betala din biljett på länken ned
 an. Skicka sedan kvittot till cristina.gunnarsson@gmail.com (glöm inte vil
 ket konto du önskar få in dina pengar) Let The Music Speak hedrar Björn 
 &amp; Bennys musikaliska arv genom en storslagen arenaturné med[..]\nhttps
 ://gyncancerforbundet.se/events/let-the-music-speak-onskoldsvik/
URL:https://gyncancerforbundet.se/events/let-the-music-speak-onskoldsvik/
END:VEVENT
END:VCALENDAR