BEGIN:VCALENDAR
VERSION:2.0
PRODID:-//eventon.com NONSGML v1.0//EN
CALSCALE:GREGORIAN
METHOD:PUBLISH
BEGIN:VEVENT
UID:69e60ac1eccf9
DTSTAMP:20260420T111513Z
DTSTART:20241025T193000Z
DTEND:20241025T000000Z
LOCATION:Skandinavium Valhallagatan 1\,  Göteborg
SUMMARY:Let the Music Speak\,  Göteborg
DESCRIPTION:Gyncancerförbundet bjuder sina medlemmar på 500:- av biljettp
 riset. Du får själv boka och betala din biljett på länken nedan. Skicka
  sedan kvittot till cristina.gunnarsson@gmail.com (glöm inte vilket konto 
 du önskar få in dina pengar) Let The Music Speak hedrar Björn &amp; Benn
 ys musikaliska arv genom en storslagen arenaturné med en[..]\nhttps://gync
 ancerforbundet.se/events/let-the-music-speak-goteborg/
URL:https://gyncancerforbundet.se/events/let-the-music-speak-goteborg/
END:VEVENT
END:VCALENDAR