BEGIN:VCALENDAR
VERSION:2.0
PRODID:-//eventon.com NONSGML v1.0//EN
CALSCALE:GREGORIAN
METHOD:PUBLISH
BEGIN:VEVENT
UID:69e74cdb41fe2
DTSTAMP:20260421T100931Z
DTSTART:20240726T193000Z
DTEND:20240727T020000Z
LOCATION:Rådhusparken Hudiksvall
SUMMARY:Hudikkalaset med GCF Gävleborg
DESCRIPTION:GCF Gävleborg betalar 500:- på biljettpriset på fredagsaktiv
 iteten på Hudikkalaset. Du betalar och beställer biljetter på länken ne
 dan och skickar sedan kvitto till&nbsp;GCF Gävleborgs kassör : ulla@wahlm
 an.se Vid frågor ring vår kontaktperson i Hudiksvall Yvonne 0706844341 Hu
 dikKalaset är sommaren 2024 tillbaka i Rådhusparken i centrala Hudiksvall
 . Precis som vanligt är[..]\nhttps://gyncancerforbundet.se/events/hudikkal
 aset-med-gcf-gavleborg/
URL:https://gyncancerforbundet.se/events/hudikkalaset-med-gcf-gavleborg/
END:VEVENT
END:VCALENDAR