BEGIN:VCALENDAR
VERSION:2.0
PRODID:-//eventon.com NONSGML v1.0//EN
CALSCALE:GREGORIAN
METHOD:PUBLISH
BEGIN:VEVENT
UID:69e74cd5eb650
DTSTAMP:20260421T100925Z
DTSTART:20241110T180000Z
DTEND:20241110T194500Z
LOCATION:Scalateatern Västra Torggatan 1\,  Karlstad
SUMMARY:Från Broadway till Duvemåla\,  Karlstad
DESCRIPTION:Gyncancerförbundet bjuder sina medlemmar på 500:- av biljettp
 riset till denna fantastiska show.&nbsp;Du får själv boka och betala din 
 biljett på länken nedan och sedan skicka ditt kvitto till förbundets kas
 sör: cristina.gunnarsson@gmail.com ( 070-6563200) Glöm inte att ange vilk
 et konto du önskar få pengarna insatta på Från Broadway till Duvemåla 
 är[..]\nhttps://gyncancerforbundet.se/events/fran-broadway-till-duvemala-k
 arlstad/
URL:https://gyncancerforbundet.se/events/fran-broadway-till-duvemala-karlstad/
END:VEVENT
END:VCALENDAR