BEGIN:VCALENDAR
VERSION:2.0
PRODID:-//eventon.com NONSGML v1.0//EN
CALSCALE:GREGORIAN
METHOD:PUBLISH
BEGIN:VEVENT
UID:69e5e21230a55
DTSTAMP:20260420T082138Z
DTSTART:20241027T160000Z
DTEND:20241027T174500Z
LOCATION:Linköping Konsert &amp; Konferens Konsistoriegatan 7\,  Linköping
SUMMARY:Från Broadway till Duvemåla\,  Linköping
DESCRIPTION:Aktivitet Gyncancerförbundet bjuder sina medlemmar på 500:- a
 v biljettpriset till denna fantastiska show.&nbsp;Du får själv boka och b
 etala din biljett på länken nedan och sedan skicka ditt kvitto till förb
 undets kassör: cristina.gunnarsson@gmail.com ( 070-6563200) Glöm inte att
  ange vilket konto du önskar få pengarna insatta på Från Broadway till 
 Duvemåla[..]\nhttps://gyncancerforbundet.se/events/fran-broadway-till-duve
 mala-linkoping/
URL:https://gyncancerforbundet.se/events/fran-broadway-till-duvemala-linkoping/
END:VEVENT
END:VCALENDAR