BEGIN:VCALENDAR
VERSION:2.0
PRODID:-//eventon.com NONSGML v1.0//EN
CALSCALE:GREGORIAN
METHOD:PUBLISH
BEGIN:VEVENT
UID:69e61a5b4d7f2
DTSTAMP:20260420T122147Z
DTSTART:20241025T193000Z
DTEND:20241025T000000Z
LOCATION:Lorensbergsteatern Karl Gerhards Plats 1\,  GÃ¶teborg
SUMMARY:Show med Peter & Bruno i GÃ¶teborg
DESCRIPTION:GyncancerfÃ¶rbundet ersÃ¤tter sina medlemmar med 500:- pÃ¥ bilj
 ettpriset. Du bokar och betalar din biljett pÃ¥ lÃ¤nken nedan. Du skickar s
 edan ditt kvitto till fÃ¶rbundets kassÃ¶r: cristina.gunnarsson@gmail.com (0
 70-6563200) GlÃ¶m inte att uppge vilket kontonummer du Ã¶nskar pengarna ins
 atta pÃ¥ Om showen Nu Ã¤r supersuccÃ©n frÃ¥n 2019 tillbaka! En show som frÃ
 ¥n[..]\nhttps://gyncancerforbundet.se/events/show-med-peter-bruno-i-gotebor
 g/
URL:https://gyncancerforbundet.se/events/show-med-peter-bruno-i-goteborg/
END:VEVENT
END:VCALENDAR