BEGIN:VCALENDAR
VERSION:2.0
PRODID:-//eventon.com NONSGML v1.0//EN
CALSCALE:GREGORIAN
METHOD:PUBLISH
BEGIN:VEVENT
UID:69e5e2631aa8d
DTSTAMP:20260420T082259Z
DTSTART:20241005T193000Z
DTEND:20241005T000000Z
LOCATION:VÃ¤xjÃ¶ konserthus
SUMMARY:Show med Peter\,  Bruno\,  Matilda & Petra Unplugged 2.0 i VÃ¤xjÃ¶
DESCRIPTION:GyncancerfÃ¶rbundet ersÃ¤tter sina medlemmar med 500:- pÃ¥ bilj
 ettpriset. Du bokar och betalar din biljett pÃ¥ lÃ¤nken nedan. Du skickar s
 edan ditt kvitto till fÃ¶rbundets kassÃ¶r: cristina.gunnarsson@gmail.com (0
 70-6563200) GlÃ¶m inte att uppge vilket kontonummer du Ã¶nskar pengarna ins
 atta pÃ¥ Om showen Nu Ã¤r supersuccÃ©n frÃ¥n 2019 tillbaka! En show som frÃ
 ¥n[..]\nhttps://gyncancerforbundet.se/events/show-med-peter-bruno-matilda-p
 etra-unplugged-2-0-i-vaxjo/
URL:https://gyncancerforbundet.se/events/show-med-peter-bruno-matilda-petra-unplugged-2-0-i-vaxjo/
END:VEVENT
END:VCALENDAR