BEGIN:VCALENDAR
VERSION:2.0
PRODID:-//eventon.com NONSGML v1.0//EN
CALSCALE:GREGORIAN
METHOD:PUBLISH
BEGIN:VEVENT
UID:69e5e291b6264
DTSTAMP:20260420T082345Z
DTSTART:20240318T100000Z
DTEND:20240318T000000Z
LOCATION:Ritz Bageri Stortorget 3-5\,  Sölvesborg
SUMMARY:Fikaträff med GCF Blekinge-Småland
DESCRIPTION:Vi träffas klockan 10 på Ritz i Sölvesborg Välkomna För in
 fo 070-5753959 070-5542450\nhttps://gyncancerforbundet.se/events/fikatraff-
 med-gcf-blekinge-smaland-2/
URL:https://gyncancerforbundet.se/events/fikatraff-med-gcf-blekinge-smaland-2/
END:VEVENT
END:VCALENDAR