BEGIN:VCALENDAR
VERSION:2.0
PRODID:-//eventon.com NONSGML v1.0//EN
CALSCALE:GREGORIAN
METHOD:PUBLISH
BEGIN:VEVENT
UID:69e7372ebbe53
DTSTAMP:20260421T083702Z
DTSTART:20240228T180000Z
DTEND:20240228T000000Z
LOCATION:Fratelli Stortorget 8\,  Örebro
SUMMARY:Medlemsträff på Fratelli i Örebro
DESCRIPTION:Anmälan senast 22/2 till elenorlantz@hotmail.com&nbsp; GCF Ör
 ebro bjuder sina medlemmar Välkomna Styrelsen\nhttps://gyncancerforbundet.
 se/events/medlemstraff-pa-fratelli-i-orebro/
URL:https://gyncancerforbundet.se/events/medlemstraff-pa-fratelli-i-orebro/
END:VEVENT
END:VCALENDAR