BEGIN:VCALENDAR
VERSION:2.0
PRODID:-//eventon.com NONSGML v1.0//EN
CALSCALE:GREGORIAN
METHOD:PUBLISH
BEGIN:VEVENT
UID:69e736870dbb8
DTSTAMP:20260421T083415Z
DTSTART:20240324T130000Z
DTEND:20240324T150000Z
LOCATION:Global Living Smedjegatan 13\,  Västerås
SUMMARY:FIKATRÄFF GCF VÄSTMANLAND
DESCRIPTION:Vi&nbsp;träffas&nbsp;i all enkelhet över en kopp kaffe på&nb
 sp;Café&nbsp;Global Living i Västerås&nbsp;(https://globalliving.se&nbsp
 ;). Om du vill ha något annat än fika finns det också några enklare rä
 tter att välja på. Föreningen bjuder på fika/mat. Anmäl gärna att du 
 kommer till Maija Parviainen&nbsp;&nbsp;maijas.info@gmail.com&nbsp;(sms ell
 er telefon076-876 64 81)ellerWilly Hermansson&nbsp;&nbsp;tallbacken1@telia.
 com&nbsp;(sms eller telefon 070-7181413). Välkommen!\nhttps://gyncancerfor
 bundet.se/events/fikatraff-gcf-vastmanland-2/
URL:https://gyncancerforbundet.se/events/fikatraff-gcf-vastmanland-2/
END:VEVENT
END:VCALENDAR