BEGIN:VCALENDAR
VERSION:2.0
PRODID:-//eventon.com NONSGML v1.0//EN
CALSCALE:GREGORIAN
METHOD:PUBLISH
BEGIN:VEVENT
UID:69e5e2e16cfcb
DTSTAMP:20260420T082505Z
DTSTART:20240403T140000Z
DTEND:20240403T000000Z
LOCATION:Konditori Regnbågen Kark XI:s väg 37 Halmstad
SUMMARY:Fika-träff GCF Halland
DESCRIPTION:Fika-träff GCF Halland\nhttps://gyncancerforbundet.se/events/f
 ika-traff-gcf-halland-8/
URL:https://gyncancerforbundet.se/events/fika-traff-gcf-halland-8/
END:VEVENT
END:VCALENDAR