BEGIN:VCALENDAR
VERSION:2.0
PRODID:-//eventon.com NONSGML v1.0//EN
CALSCALE:GREGORIAN
METHOD:PUBLISH
BEGIN:VEVENT
UID:69e736dba7d5c
DTSTAMP:20260421T083539Z
DTSTART:20240221T163000Z
DTEND:20240221T190000Z
LOCATION:
SUMMARY:AkvarellmÃ¥lning med GCF Stockholm - Uppsala
DESCRIPTION:SE HIT!! alla medlemmar en unik chans att fÃ¥ utveckla sin krea
 tiva fÃ¶rmÃ¥ga och lÃ¤ra sig akvarell mÃ¥lning. Skynda att anmÃ¤l ett begrÃ
 ¤nsat antal platser. FÃ¶rbundet bjuder sina medlemmar pÃ¥ denna aktivitetFÃ
 ¶r anmÃ¤lan: gcfstockholm-uppsala@gyncancerforbundet.se alt sms 073-1565979
  Vid frÃ¥gor: Ring vice ordf Nathalie Stoltz 076-2090876 AkvarellmÃ¥lning m
 ed konstnÃ¤ren Lisa Ling&nbsp;[..]\nhttps://gyncancerforbundet.se/events/ak
 varellmalning-med-gcf-stockholm-uppsala/
URL:https://gyncancerforbundet.se/events/akvarellmalning-med-gcf-stockholm-uppsala/
END:VEVENT
END:VCALENDAR