BEGIN:VCALENDAR
VERSION:2.0
PRODID:-//eventon.com NONSGML v1.0//EN
CALSCALE:GREGORIAN
METHOD:PUBLISH
BEGIN:VEVENT
UID:69e7717aacec6
DTSTAMP:20260421T124546Z
DTSTART:20240419T193000Z
DTEND:20240419T000000Z
LOCATION:Folkets hus Krondikesvägen 93\,  Östersund
SUMMARY:Konsert “en jäkla massa schlager”
DESCRIPTION:När två av Sveriges mesta schlagerstjärnor åker på gemensa
 m turné kan publiken räkna med en fartfylld kväll fylld av hits. Magnus 
 och Linda uppträdde tillsammans under årets Melodifestival där de levere
 rade ett färgsprakande schlagermedley som hyllats av såväl Tv-publik som
  media både i Sverige och utomlands. Mer av dessa Schlagerstjärnor[..]\nh
 ttps://gyncancerforbundet.se/events/konsert-en-jakla-massa-schlager-7/
URL:https://gyncancerforbundet.se/events/konsert-en-jakla-massa-schlager-7/
END:VEVENT
END:VCALENDAR