BEGIN:VCALENDAR
VERSION:2.0
PRODID:-//eventon.com NONSGML v1.0//EN
CALSCALE:GREGORIAN
METHOD:PUBLISH
BEGIN:VEVENT
UID:69e7371d3a7e4
DTSTAMP:20260421T083645Z
DTSTART:20240728T180000Z
DTEND:20240728T000000Z
LOCATION:Dalhalla Dalhallavägen 201\,  Rättvik
SUMMARY:Diggiloo
DESCRIPTION:Vi har goda nyheter – det kommer att bli sommar igen! Och det
  betyder ännu ett år med sprudlande folkfest över generationsgränserna 
 när Diggiloo bjuder på en riktig mega-konsert-show-upplevelse. Och ännu 
 en gång är det en imponerande samling artister som tar plats på scen:&nb
 sp;Anders Bagge\, &nbsp;Lucianoz\, &nbsp;Wiktoria\, &nbsp;Andreas Lundstedt
 \, &nbsp;Liamoo\, &nbsp;Andreas Weise\, &nbsp;Elisa Lindström\, &nbsp;Dogg
 e Doggelito\, &nbsp;Jessica Andersson\, &nbsp;Lisa[..]\nhttps://gyncancerfo
 rbundet.se/events/diggiloo-13/
URL:https://gyncancerforbundet.se/events/diggiloo-13/
END:VEVENT
END:VCALENDAR