BEGIN:VCALENDAR
VERSION:2.0
PRODID:-//eventon.com NONSGML v1.0//EN
CALSCALE:GREGORIAN
METHOD:PUBLISH
BEGIN:VEVENT
UID:69e7638303c6c
DTSTAMP:20260421T114611Z
DTSTART:20240324T180000Z
DTEND:20240324T000000Z
LOCATION:Gävle Konserthus Kungsbäcksvägen 22\,  Gävle
SUMMARY:Konsert "den svenska sångboken"
DESCRIPTION:Den svenska sångboken Efter den makalösa succén med Thank yo
 u for the music så har Kalle Moraeus\,  Gunilla Backman och Johan Boding b
 estämt sig för att fördjupa samarbetet och ger sig ut på en ny gemensam
  turné. Denna gång så ska man hylla den svenska sångboken! Den svenska 
 sångboken är[..]\nhttps://gyncancerforbundet.se/events/konsert-den-svensk
 a-sangboken-14/
URL:https://gyncancerforbundet.se/events/konsert-den-svenska-sangboken-14/
END:VEVENT
END:VCALENDAR