BEGIN:VCALENDAR
VERSION:2.0
PRODID:-//eventon.com NONSGML v1.0//EN
CALSCALE:GREGORIAN
METHOD:PUBLISH
BEGIN:VEVENT
UID:69e7365d136a0
DTSTAMP:20260421T083333Z
DTSTART:20240317T180000Z
DTEND:20240317T000000Z
LOCATION:Konserthus teatern Stortorget 16\,  Karlskrona
SUMMARY:Konsert "den svenska sångboken"
DESCRIPTION:Den svenska sångboken Efter den makalösa succén med Thank yo
 u for the music så har Kalle Moraeus\,  Gunilla Backman och Johan Boding b
 estämt sig för att fördjupa samarbetet och ger sig ut på en ny gemensam
  turné. Denna gång så ska man hylla den svenska sångboken! Den svenska 
 sångboken är[..]\nhttps://gyncancerforbundet.se/events/konsert-den-svensk
 a-sangboken-10/
URL:https://gyncancerforbundet.se/events/konsert-den-svenska-sangboken-10/
END:VEVENT
END:VCALENDAR