BEGIN:VCALENDAR
VERSION:2.0
PRODID:-//eventon.com NONSGML v1.0//EN
CALSCALE:GREGORIAN
METHOD:PUBLISH
BEGIN:VEVENT
UID:69e5f60a13cc1
DTSTAMP:20260420T094650Z
DTSTART:20240307T193000Z
DTEND:20240307T000000Z
LOCATION:Åhaga Lillåvägen 4\,  Borås
SUMMARY:Konsert "den svenska sångboken"
DESCRIPTION:Den svenska sångboken Efter den makalösa succén med Thank yo
 u for the music så har Kalle Moraeus\,  Gunilla Backman och Johan Boding b
 estämt sig för att fördjupa samarbetet och ger sig ut på en ny gemensam
  turné. Denna gång så ska man hylla den svenska sångboken! Den svenska 
 sångboken är[..]\nhttps://gyncancerforbundet.se/events/konsert-den-svensk
 a-sangboken-4/
URL:https://gyncancerforbundet.se/events/konsert-den-svenska-sangboken-4/
END:VEVENT
END:VCALENDAR