BEGIN:VCALENDAR
VERSION:2.0
PRODID:-//eventon.com NONSGML v1.0//EN
CALSCALE:GREGORIAN
METHOD:PUBLISH
BEGIN:VEVENT
UID:69e60bbb33963
DTSTAMP:20260420T111923Z
DTSTART:20240303T180000Z
DTEND:20240303T200000Z
LOCATION:Västerås konserthus Kopparbergsvägen 1\,  Västerås
SUMMARY:Queens
DESCRIPTION:EN STORSLAGEN SHOW MED DE STÖRSTA HITSEN AV QUEEN! Vilken succ
 é det blev! Vårens turné med Queens hyllades av publiken och fick högst
 a betyg av media. Lagom till 50-årsjubiléet av inspelningen av gruppen Qu
 eens legendariska debutskiva blir det nu en fortsättning för Queens att h
 ylla den legendariska gruppen. Bandets låtskatt[..]\nhttps://gyncancerforb
 undet.se/events/queens-3/
URL:https://gyncancerforbundet.se/events/queens-3/
END:VEVENT
END:VCALENDAR