BEGIN:VCALENDAR
VERSION:2.0
PRODID:-//eventon.com NONSGML v1.0//EN
CALSCALE:GREGORIAN
METHOD:PUBLISH
BEGIN:VEVENT
UID:69e737240988f
DTSTAMP:20260421T083652Z
DTSTART:20240225T150000Z
DTEND:20240225T180000Z
LOCATION:Finnvedens gymnasium\,  Finnvedens aula\,  ProstgÃ¥rdsvÃ¤gen 3\,  331 83 VÃ¤rnamo
SUMMARY:Tomas Gunnarsson\,  VÃ¤rnamo
DESCRIPTION:VÃ¤rnamo 25 februari 2024 Att lyfta sig sjÃ¤lv och andra Den pe
 rfekta fÃ¶relÃ¤sningen fÃ¶r dig som vill ha en energiboost\,  Ã¶ka din kuns
 kap om hur du kan leda dig sjÃ¤lv och skapa bra relationer tillsammans med 
 andra\,  samt fÃ¥ konkreta redskap som du kan anvÃ¤nda direkt efter fÃ¶relÃ
 ¤sningens slut.En perfekt[..]\nhttps://gyncancerforbundet.se/events/tomas-g
 unnarsson-varnamo/
URL:https://gyncancerforbundet.se/events/tomas-gunnarsson-varnamo/
END:VEVENT
END:VCALENDAR