BEGIN:VCALENDAR
VERSION:2.0
PRODID:-//eventon.com NONSGML v1.0//EN
CALSCALE:GREGORIAN
METHOD:PUBLISH
BEGIN:VEVENT
UID:69e737003e2d7
DTSTAMP:20260421T083616Z
DTSTART:20240408T180000Z
DTEND:20240408T200000Z
LOCATION:Espresso house Karlbergsvägen 10\,  Stockholm
SUMMARY:Fikaträff på Espresso House\,  Stockholm
DESCRIPTION:Gyncancerförbundet bjuder sina medlemmar på fika\,  så kom o
 ch umgås en stund. Ingen anmälan\,  bara att komma Välkomna // Styrelsen
 \nhttps://gyncancerforbundet.se/events/fikatraff-pa-espresso-house-stockhol
 m-4/
URL:https://gyncancerforbundet.se/events/fikatraff-pa-espresso-house-stockholm-4/
END:VEVENT
END:VCALENDAR