BEGIN:VCALENDAR
VERSION:2.0
PRODID:-//eventon.com NONSGML v1.0//EN
CALSCALE:GREGORIAN
METHOD:PUBLISH
BEGIN:VEVENT
UID:69e5e214d012b
DTSTAMP:20260420T082140Z
DTSTART:20240304T180000Z
DTEND:20240304T200000Z
LOCATION:Espresso house Karlbergsvägen 10\,  Stockholm
SUMMARY:Fikaträff på Espresso House\,  Stockholm
DESCRIPTION:Gyncancerförbundet bjuder sina medlemmar på fika\,  så kom o
 ch umgås en stund. Ingen anmälan\,  bara att komma Välkomna // Styrelsen
 \nhttps://gyncancerforbundet.se/events/fikatraff-pa-espresso-house-stockhol
 m-3/
URL:https://gyncancerforbundet.se/events/fikatraff-pa-espresso-house-stockholm-3/
END:VEVENT
END:VCALENDAR