BEGIN:VCALENDAR
VERSION:2.0
PRODID:-//eventon.com NONSGML v1.0//EN
CALSCALE:GREGORIAN
METHOD:PUBLISH
BEGIN:VEVENT
UID:69e7365996c62
DTSTAMP:20260421T083329Z
DTSTART:20231209T130000Z
DTEND:20231209T000000Z
LOCATION:Hotell Eggers Drottningtorget\,  Göteborg
SUMMARY:Julbord\,  GCF Västra Götaland
DESCRIPTION:Vi bjuder in till årets julbord på hotell Eggers på Drottnin
 gtorget i Göteborg. Anmälan senast 22/11 till sara_wendel@hotmail.com Vä
 lkomna Sara\,  Nina och Malin Kontaktpersoner i GCF Västra Götaland Någr
 a ord från vår köksmästare om årets julbord Nu närmar sig den härlig
 a julen igen. På Hôtel Eggers serverar vi inte det[..]\nhttps://gyncancer
 forbundet.se/events/julbord-gcf-vastra-gotaland/
URL:https://gyncancerforbundet.se/events/julbord-gcf-vastra-gotaland/
END:VEVENT
END:VCALENDAR