BEGIN:VCALENDAR
VERSION:2.0
PRODID:-//eventon.com NONSGML v1.0//EN
CALSCALE:GREGORIAN
METHOD:PUBLISH
BEGIN:VEVENT
UID:69e5f5b779eea
DTSTAMP:20260420T094527Z
DTSTART:20231026T180000Z
DTEND:20231026T200000Z
LOCATION:Brasseri 21 Sjukhusvägen 12 A\,  Uppsala
SUMMARY:Fikaträff på Brasseri 21\,  Uppsala
DESCRIPTION:Vi träffas\,  pratar och fikar på Brasseri 21 mellan 18-20. N
 ya och gamla medlemmar är Välkomna\,  ingen anmälan krävs. Föreningen 
 bjuder på &#8221;matigare&#8221; fika. Välkomna!\nhttps://gyncancerforbun
 det.se/events/fikatraff-pa-brasseri-21-uppsala/
URL:https://gyncancerforbundet.se/events/fikatraff-pa-brasseri-21-uppsala/
END:VEVENT
END:VCALENDAR