BEGIN:VCALENDAR
VERSION:2.0
PRODID:-//eventon.com NONSGML v1.0//EN
CALSCALE:GREGORIAN
METHOD:PUBLISH
BEGIN:VEVENT
UID:69e5f8db0e300
DTSTAMP:20260420T095851Z
DTSTART:20231104T170000Z
DTEND:20231104T000000Z
LOCATION:Hjalmar Bergman Teatern Näbbtorgsgatan 5\,  Örebro
SUMMARY:Konsert med Kalle Moreaus\,  Doug Seegers och Alexzandra Wic\,  Örebro
DESCRIPTION:GCF Örebro bjuder sin medlemmar på denna fantastiska konsert.
  Kalle har en stor kärlek och passion till den amerikanska musik och count
 rystaden Nashville. I Nashville föddes idén en konsert där Svensk folkmu
 sik och historia möter den amerikanska folkmusiken som främst består av 
 country\,  bluegrass\,  gospel och blues. Publiken kan förvänta[..]\nhttp
 s://gyncancerforbundet.se/events/konsert-med-kalle-moreaus-doug-seegers-och
 -alexzandra-wic-orebro/
URL:https://gyncancerforbundet.se/events/konsert-med-kalle-moreaus-doug-seegers-och-alexzandra-wic-orebro/
END:VEVENT
END:VCALENDAR