BEGIN:VCALENDAR
VERSION:2.0
PRODID:-//eventon.com NONSGML v1.0//EN
CALSCALE:GREGORIAN
METHOD:PUBLISH
BEGIN:VEVENT
UID:69e73a795abbe
DTSTAMP:20260421T085105Z
DTSTART:20231203T091500Z
DTEND:20231203T163000Z
LOCATION:WadkÃ¶ping i Ã–rebro Bertil WaldÃ©ns gata 1\,  WadkÃ¶ping Ã–rebro
SUMMARY:Julmarknad i WadkÃ¶ping i Ã–rebro\,  GCF VÃ¤stmanland
DESCRIPTION:Vi gÃ¶r en bussresa till julmarknaden i WadkÃ¶ping i Ã–rebro sÃ
 ¶ndagen den 3 december. Program: 09.15 &nbsp;&nbsp;&nbsp;&nbsp;&nbsp;&nbsp;
 &nbsp;&nbsp;&nbsp;&nbsp;&nbsp;&nbsp;&nbsp;&nbsp;&nbsp; Avresa frÃ¥n VÃ¤ster
 Ã¥s\,  busscentralen hpl I 1) 10.45&nbsp;&nbsp;&nbsp;&nbsp;&nbsp;&nbsp;&nbs
 p;&nbsp;&nbsp;&nbsp;&nbsp;&nbsp;&nbsp;&nbsp;&nbsp;&nbsp; Ankomst Naturens H
 us Ã–rebro dÃ¤r vi blir serverade kaffe &amp; smÃ¶rgÃ¥s 11.45&nbsp;&nbsp;&n
 bsp;&nbsp;&nbsp;&nbsp;&nbsp;&nbsp;&nbsp;&nbsp;&nbsp;&nbsp;&nbsp;&nbsp;&nbsp
 ;&nbsp; Avresa 12.00&nbsp;&nbsp;&nbsp;&nbsp;&nbsp;&nbsp;&nbsp;&nbsp;&nbsp;&
 nbsp;&nbsp;&nbsp;&nbsp;&nbsp;&nbsp;&nbsp; Ankomst WadkÃ¶ping\,  dÃ¤r vi fÃ¥
 r tid att strosa runt pÃ¥ julmarknaden[..]\nhttps://gyncancerforbundet.se/e
 vents/julmarknad-i-wadkoping-gcf-vastmanland/
URL:https://gyncancerforbundet.se/events/julmarknad-i-wadkoping-gcf-vastmanland/
END:VEVENT
END:VCALENDAR