BEGIN:VCALENDAR
VERSION:2.0
PRODID:-//eventon.com NONSGML v1.0//EN
CALSCALE:GREGORIAN
METHOD:PUBLISH
BEGIN:VEVENT
UID:69e74d764f186
DTSTAMP:20260421T101206Z
DTSTART:20231016T110000Z
DTEND:20231016T215000Z
LOCATION:Café Charm Storgatan 34\,  Sundsvall
SUMMARY:Fikaträff GCF Västernorrland
DESCRIPTION:Hjärtligt Välkomna // Maggan och Katarina\nhttps://gyncancerf
 orbundet.se/events/fikatraff-gcf-vasternorrland-2/
URL:https://gyncancerforbundet.se/events/fikatraff-gcf-vasternorrland-2/
END:VEVENT
END:VCALENDAR