BEGIN:VCALENDAR
VERSION:2.0
PRODID:-//eventon.com NONSGML v1.0//EN
CALSCALE:GREGORIAN
METHOD:PUBLISH
BEGIN:VEVENT
UID:69e7375cae20c
DTSTAMP:20260421T083748Z
DTSTART:20230901T160000Z
DTEND:20230903T120000Z
LOCATION:
SUMMARY:Keramik\,  2 dagar
DESCRIPTION:Incheckning kl 18 på fredag och avslut ca 14 på söndag Delat
  boende i dubbelrum Hitta närvaro och fokus med hjälp av lerans kraft. Vi
  kommer prova på att dreja\,  kavla\,  göra mönster\,  skulptera&#8230; 
 Gyncancerförbundet står för mat- och kurskostnad och du själv bekostar 
 boende och resa. Om du avbokar[..]\nhttps://gyncancerforbundet.se/events/ke
 ramik-2-dagar/
URL:https://gyncancerforbundet.se/events/keramik-2-dagar/
END:VEVENT
END:VCALENDAR