BEGIN:VCALENDAR
VERSION:2.0
PRODID:-//eventon.com NONSGML v1.0//EN
CALSCALE:GREGORIAN
METHOD:PUBLISH
BEGIN:VEVENT
UID:69e5f94ca8de1
DTSTAMP:20260420T100044Z
DTSTART:20231025T163000Z
DTEND:20231025T193000Z
LOCATION:Gustavsbergsteatern Skärgårdsvägen 7\,  Gustavsberg
SUMMARY:Föreläsning med Tomas Gunnarsson\,  Gustavsberg
DESCRIPTION:Gyncancerförbundet bjuder sina medlemmar på denna fantastiska
  föreläsning. Tomas är underbar och bjuder otroligt på sig själv och f
 örbundet har själv anlitat Tomas som föreläsare och kan varmt rekommend
 era honom. “Den perfekta föreläsningen för dig som vill ha en energibo
 ost\,  öka din kunskap om hur du kan leda dig själv[..]\nhttps://gyncance
 rforbundet.se/events/forelasning-med-tomas-gunnarsson-gustavsberg/
URL:https://gyncancerforbundet.se/events/forelasning-med-tomas-gunnarsson-gustavsberg/
END:VEVENT
END:VCALENDAR