BEGIN:VCALENDAR
VERSION:2.0
PRODID:-//eventon.com NONSGML v1.0//EN
CALSCALE:GREGORIAN
METHOD:PUBLISH
BEGIN:VEVENT
UID:69e5f5d2b69a5
DTSTAMP:20260420T094554Z
DTSTART:20231016T163000Z
DTEND:20231016T193000Z
LOCATION:Karolinska gymnasiet\,  Aulan Olaigatan 25\,  Örebro
SUMMARY:Föreläsning med Tomas Gunnarsson\,  Örebro
DESCRIPTION:Gyncancerförbundet bjuder sina medlemmar på denna fantastiska
  föreläsning. Tomas är underbar och bjuder otroligt på sig själv och f
 örbundet har själv anlitat Tomas som föreläsare och kan varmt rekommend
 era honom. “Den perfekta föreläsningen för dig som vill ha en energibo
 ost\,  öka din kunskap om hur du kan leda dig själv[..]\nhttps://gyncance
 rforbundet.se/events/forelasning-med-tomas-gunnarsson-orebro/
URL:https://gyncancerforbundet.se/events/forelasning-med-tomas-gunnarsson-orebro/
END:VEVENT
END:VCALENDAR