BEGIN:VCALENDAR
VERSION:2.0
PRODID:-//eventon.com NONSGML v1.0//EN
CALSCALE:GREGORIAN
METHOD:PUBLISH
BEGIN:VEVENT
UID:69e5e24106142
DTSTAMP:20260420T082225Z
DTSTART:20231012T163000Z
DTEND:20231012T193000Z
LOCATION:Forellaulan Bollmoratorg 5\,  Tyresö
SUMMARY:Föreläsning med Tomas Gunnarsson\,  Tyresö
DESCRIPTION:Gyncancerförbundet bjuder sina medlemmar på denna fantastiska
  föreläsning. Tomas är underbar och bjuder otroligt på sig själv och f
 örbundet har själv anlitat Tomas som föreläsare och kan varmt rekommend
 era honom. &#8221;Den perfekta föreläsningen för dig som vill ha en ener
 giboost\,  öka din kunskap om hur du kan leda dig själv[..]\nhttps://gync
 ancerforbundet.se/events/forelasning-med-tomas-gunnarsson-tyreso/
URL:https://gyncancerforbundet.se/events/forelasning-med-tomas-gunnarsson-tyreso/
END:VEVENT
END:VCALENDAR